BEGIN:VCALENDAR
VERSION:2.0
PRODID:-//UCSF - Universidad Católica de Santa Fe - ECPv5.14.2.1//NONSGML v1.0//EN
CALSCALE:GREGORIAN
METHOD:PUBLISH
X-WR-CALNAME:UCSF - Universidad Católica de Santa Fe
X-ORIGINAL-URL:https://www.ucsf.edu.ar
X-WR-CALDESC:Events for UCSF - Universidad Católica de Santa Fe
REFRESH-INTERVAL;VALUE=DURATION:PT1H
X-Robots-Tag:noindex
X-PUBLISHED-TTL:PT1H
BEGIN:VTIMEZONE
TZID:America/Argentina/Buenos_Aires
BEGIN:STANDARD
TZOFFSETFROM:-0300
TZOFFSETTO:-0300
TZNAME:-03
DTSTART:20220101T000000
END:STANDARD
END:VTIMEZONE
BEGIN:VEVENT
DTSTART;TZID=America/Argentina/Buenos_Aires:20220409T000000
DTEND;TZID=America/Argentina/Buenos_Aires:20220719T000000
DTSTAMP:20260420T031338
CREATED:20220202T162825Z
LAST-MODIFIED:20220719T122432Z
UID:49481-1649462400-1658188800@www.ucsf.edu.ar
SUMMARY:Diplomatura en Prácticas Estratégicas (DiPraEs)
DESCRIPTION:El “Programa Universidad Abierta para la Casa Común“\, dependiente de la Secretaría de Ciencia y Técnica\, y Extensión\, en conjunto con la Fundación EPYCA ((Equipo de producción y construcción alternativa) comunican que se encuentra abierta la inscripción para la “Diplomatura en Prácticas Estratégicas”. \nFinalidad\nFormar estratégicamente mediante el desarrollo de ensambles prosumidores. \nTítulo \nCertificado de Aprobación y / o Cursado de la Diplomatura en Prácticas Estratégicas (DiPraEs) \nObjetivos de la Diplomatura \nObjetivo General\nEstrategizar prácticas socioproductivas tendientes al bien común \nObjetivos Específicos \n• Diseñar y desarrollar prácticas socioproductivas con los cursantes.\n• Superar y/o resolver situaciones sociales\, culturales\, políticas\, epistemológicas\, metodológicas y\nproductivas\, estrategizando integralmente.\n• Entramar prácticas locales\, provinciales\, regionales\, nacionales\, latinoamericanas e internacionales. \nDestinatarios\nDiPraEs está dirigida a la población en general: profesionales\, productores\, militantes sociales\, técnicos\, docentes\ny estudiantes. No requiere formación previa. \nComienzo de cursado: sábado 9 de abril (Una vez por mes). Duración: 9 meses \nInscripciones online: https://www.eventbrite.com.ar/e/diplomatura-en-practicas-estrategicas-tickets-261021541457?aff=Inscripciones \nCoordinación general: Dra. Mercedes Gagneten \nCV  abreviado: \nDoctorado UBA\, Facultad de Filosofía y Letras\, 2008 / Maestría en Historia Latinoamericana\, Universidad\nInternacional de Andalucía\, España\, 1999 / Trabajadora Social / Profesora Titular Jubilada “Seminario de Cultura\nPopular”\, Carrera de Trabajo Social\, Facultad de Ciencias Sociales\, Universidad de Buenos Aires\, 1993 a 2016 /\nProfesora Titular Jubilada “Seminario Educación Ambiental y Antropología Cultural”\, Facultad de Bioquímica y\nCiencias Biológicas\, Universidad Nacional del Litoral\, 1999 a 2014 / Profesora Titular “Seminario Observación y\nAnálisis de Problemas Sociales”\, Carrera de Nutrición\, Facultad de Ciencias de la Salud\, Universidad Católica de\nSanta Fe\, 2012 a la fecha / Presidenta Fundación EPyCA (Equipo de Producción y Construcción Alternativa\, 2005\na la fecha). \nCoordinación Académica: Dr. Guillermo Kerz \nCV  abreviado:\nDoctor en Medicina KAAD – BONN – ALEMANIA / Vicerrector Académico de la Universidad Católica de Santa Fe\n/ Miembro de la Comisión de Educación Medica Continua de Postgrado en Colegio de Médicos de Santa Fe /\nDocente titular de la Cátedra de fisiología de la Licenciatura en Obstetricia / Médico Especialista en Ginecología y\nObstetricia. \nPara informes: contactarse vía E-mail a ysilva@epyca.org.ar y/o nmachado@epyca.org.ar
URL:https://www.ucsf.edu.ar/evento/diplomatura-en-practicas-estrategicas-dipraes/
LOCATION:Santa Fe
CATEGORIES:Santa Fe,Alumnos,Rosario,Docentes,Posadas,Personal UCSF,Reconquista,Rafaela,Gualeguaychú,Sedes,Extensión,Investigación
ATTACH;FMTTYPE=image/jpeg:https://www.ucsf.edu.ar/wp-content/uploads/2022/02/Diplomatura-en-Practicas-Estrategicas.jpg
END:VEVENT
BEGIN:VEVENT
DTSTART;TZID=America/Argentina/Buenos_Aires:20220602T100000
DTEND;TZID=America/Argentina/Buenos_Aires:20220622T220221
DTSTAMP:20260420T031338
CREATED:20220622T220218Z
LAST-MODIFIED:20220622T220218Z
UID:52508-1654164000-1655935341@www.ucsf.edu.ar
SUMMARY:Conmemoración de la Guerra de Malvinas
DESCRIPTION:A los 40 años del hundimiento del Crucero General Belgrano en la Guerra de Malvinas\, realizaremos un acto en el hall de la Universidad\, sede Virgen de Guadalupe\, al que invitamos a toda la comunidad. \nNos acompañarán Veteranos y familiares de caídos en Malvinas\, a quienes queremos recordar y homenajear\, en este aniversario y por siempre. \n¡Los esperamos!
URL:https://www.ucsf.edu.ar/evento/conmemoracion-de-la-guerra-de-malvinas/
LOCATION:UCSF Santa Fe\, Echagüe 7151\, Santa Fe\, Santa Fe\, Argentina
CATEGORIES:Home principal,Santa Fe,Facultades,Alumnos,Carreras de Grado,Docentes,Personal UCSF,Sedes,Extensión
ATTACH;FMTTYPE=image/png:https://www.ucsf.edu.ar/wp-content/uploads/2022/06/malvinas.png
GEO:-31.6069451;-60.6709418
X-APPLE-STRUCTURED-LOCATION;VALUE=URI;X-ADDRESS=UCSF Santa Fe Echagüe 7151 Santa Fe Santa Fe Argentina;X-APPLE-RADIUS=500;X-TITLE=Echagüe 7151:geo:-60.6709418,-31.6069451
END:VEVENT
BEGIN:VEVENT
DTSTART;TZID=America/Argentina/Buenos_Aires:20220609T073000
DTEND;TZID=America/Argentina/Buenos_Aires:20220622T210448
DTSTAMP:20260420T031338
CREATED:20220622T210445Z
LAST-MODIFIED:20220622T210445Z
UID:52490-1654759800-1655931888@www.ucsf.edu.ar
SUMMARY:Chocolatada por los 65 años de la Universidad
DESCRIPTION:Con motivo de los 65 baños de nuestra Universidad\, queremos celebrar en comunidad\, compartiendo una chocolatada en cada una de las sedes. \nLos horarios son los siguientes: \nSanta Fe: 10 y 16hs\nRafaela: 10 y 17hs\nRosario: 10 y 17.30hs\nPosadas: 9.30 y 16.30hs\nReconquista: 10 y 17.30hs\nGualeguaychú: 18hs \n¡Los esperamos a todos!
URL:https://www.ucsf.edu.ar/evento/chocolatada-por-los-65-anos-de-la-universidad/
LOCATION:UCSF\, Echagüe 7151\, Santa Fe Capital\, Santa Fe\, 3000\, Argentina
CATEGORIES:Home principal,Santa Fe,Facultades,Alumnos,Docentes,Rosario,Carreras de Grado,Posadas,Personal UCSF,Reconquista,Rafaela,Gualeguaychú,Sedes,Extensión
ATTACH;FMTTYPE=image/jpeg:https://www.ucsf.edu.ar/wp-content/uploads/2022/06/CHOCOLATE-novedades-2.jpg
END:VEVENT
BEGIN:VEVENT
DTSTART;TZID=America/Argentina/Buenos_Aires:20220614T100000
DTEND;TZID=America/Argentina/Buenos_Aires:20220614T113000
DTSTAMP:20260420T031338
CREATED:20220517T174251Z
LAST-MODIFIED:20220517T174801Z
UID:51805-1655200800-1655206200@www.ucsf.edu.ar
SUMMARY:Cursos Virtuales de Inglés
DESCRIPTION:El “Programa Universidad Abierta”\, dependiente de la Secretaría de Ciencia y Técnica\, y Extensión\, de la UCSF\, comunica que se encuentra  abiertas las inscripciones a los Cursos Virtuales de Inglés en sus diferentes niveles. \nTeacher: Eduardo Quintana \nObjetivos: \nEntre los Objetivos de los distintos niveles del Taller se destacan: \n– Repaso de las estructuras gramaticales básicas de la lengua inglesa \n– Enriquecer un lenguaje variado ligado a contextos de viajes y turismo. \n– Renovar nuestro conocimiento de los temas de actualidad mundial. \nLas actividades en los Talleres  ayudarán a los participantes a desarrollar su competencia comunicativa\, priorizando la comunicación oral y la escucha\, enfocándose en la adquisición y utilización de herramientas para lograr una efectiva comunicación. \nSe hará un repaso general que permitirá practicar frases y locuciones en las que nos podemos ver inmersos cuando viajamos a un país extranjero. \nSe desarrollarán estrategias y habilidades sociales para interactuar con diferentes interlocutores según contextos y circunstancias de un viaje\, enfocándose en: Hacer y responder preguntas. Dar información personal. Conversar en inglés con extranjeros. \nInicio de clases: 14 de junio. \nNivel Inicial: martes 14 de junio\,  de 10 a 11:30 hs. \nInscripciones: https://www.eventbrite.com.ar/e/curso-virtual-de-ingles-nivel-inicial-tickets-337329801517?aff=Inscripciones \nNivel intermedio – Avanzado: jueves 16 de junio\,  de 10 a 11:30 hs. \nInscripciones: https://www.eventbrite.com.ar/e/ingles-virtual-nivel-intermedio-y-avanzado-tickets-342024122357?aff=Inscripciones \nPara consultas comunicarse vía email a nsturla@ucsf.edu.ar
URL:https://www.ucsf.edu.ar/evento/talleres-virtuales-de-ingles/
LOCATION:UCSF Santa Fe\, Echagüe 7151\, Santa Fe\, Santa Fe\, Argentina
CATEGORIES:Santa Fe,Editorial,Alumnos,Rosario,Docentes,Posadas,Personal UCSF,Reconquista,Rafaela,Gualeguaychú,Sedes,Extensión,Investigación
ATTACH;FMTTYPE=image/jpeg:https://www.ucsf.edu.ar/wp-content/uploads/2022/03/CURSOS-DE-INGLES-2022.jpg
ORGANIZER;CN="Vicerrectorado%20Acad%C3%A9mico":MAILTO:vrecacad@ucsf.edu.ar
GEO:-31.6069451;-60.6709418
X-APPLE-STRUCTURED-LOCATION;VALUE=URI;X-ADDRESS=UCSF Santa Fe Echagüe 7151 Santa Fe Santa Fe Argentina;X-APPLE-RADIUS=500;X-TITLE=Echagüe 7151:geo:-60.6709418,-31.6069451
END:VEVENT
BEGIN:VEVENT
DTSTART;TZID=America/Argentina/Buenos_Aires:20220615T190000
DTEND;TZID=America/Argentina/Buenos_Aires:20220615T210000
DTSTAMP:20260420T031338
CREATED:20220610T184706Z
LAST-MODIFIED:20220610T192200Z
UID:52222-1655319600-1655326800@www.ucsf.edu.ar
SUMMARY:Conversatorio: "La Argumentación Jurídica y la Justificación del Propio Precedente”.
DESCRIPTION:  \nConversatorio: “La Argumentación Jurídica y la Justificación del Propio Precedente” – Doctorado en Ciencia Jurídica – UCSF. \nCoordinadora: Directora Dra. María Marta Didier \nDisertante: Abog. Gabriel Prieto \nFecha: miércoles 15 de junio 2022         –       Horario: 19: 00 hs  \nModalidad Virtual                –            Libre y Gratuito \n  \nLink de la reunión ZOOM: \n\nhttps://zoom.us/j/96014627048?pwd=ZGxtOUVtL1dPbi9URWYvTGwwc0RiZz09\n\nID de reunión: 960 1462 7048\nCódigo de acceso: 15062022
URL:https://www.ucsf.edu.ar/evento/conversatorio-la-argumentacion-juridica-y-la-justificacion-del-propio-precedente-posgrado/
LOCATION:Virtual\, Argentina
CATEGORIES:Santa Fe,Alumnos,Docentes,Personal UCSF,Carreras de Posgrado,Doctorado en Ciencias Jurídicas,Sedes
ATTACH;FMTTYPE=image/jpeg:https://www.ucsf.edu.ar/wp-content/uploads/2022/06/d65ab1c1-eeb7-4cdc-b0a0-372d3f6dec03.jpg
END:VEVENT
BEGIN:VEVENT
DTSTART;TZID=America/Argentina/Buenos_Aires:20220616T074500
DTEND;TZID=America/Argentina/Buenos_Aires:20220616T080000
DTSTAMP:20260420T031338
CREATED:20220614T155244Z
LAST-MODIFIED:20220614T155244Z
UID:52308-1655365500-1655366400@www.ucsf.edu.ar
SUMMARY:Conmemoración del Gral. Miguel de Güemes y el Gral. Manuel Belgrano
DESCRIPTION:El jueves 16 de junio\, a las 7.45hs\, antes de comenzar las actividades\, nos reuniremos para izar nuestra bandera en el patio de la UCSF\, sede Virgen de Guadalupe.
URL:https://www.ucsf.edu.ar/evento/conmemoracion-del-gral-miguel-de-guemes-y-el-gral-manuel-belgrano/
LOCATION:UCSF Santa Fe\, Echagüe 7151\, Santa Fe\, Santa Fe\, Argentina
CATEGORIES:Home principal,Facultades,Alumnos,Carreras de Grado,Docentes,Personal UCSF
ATTACH;FMTTYPE=image/png:https://www.ucsf.edu.ar/wp-content/uploads/2022/06/ucsf.png
GEO:-31.6069451;-60.6709418
X-APPLE-STRUCTURED-LOCATION;VALUE=URI;X-ADDRESS=UCSF Santa Fe Echagüe 7151 Santa Fe Santa Fe Argentina;X-APPLE-RADIUS=500;X-TITLE=Echagüe 7151:geo:-60.6709418,-31.6069451
END:VEVENT
BEGIN:VEVENT
DTSTART;TZID=America/Argentina/Buenos_Aires:20220616T180000
DTEND;TZID=America/Argentina/Buenos_Aires:20220616T193000
DTSTAMP:20260420T031338
CREATED:20220531T131732Z
LAST-MODIFIED:20220531T132823Z
UID:52047-1655402400-1655407800@www.ucsf.edu.ar
SUMMARY:"Mediaciones para la formación de lectores y escritores académicos” - CFD Nivel II
DESCRIPTION:La Subsecretaría de Asesoría Pedagógica de la UCSF\, dependiente de la Secretaría Académica de Rectorado\, invita a los docentes de todas las Sedes de la Universidad y a docentes de otras instituciones de Nivel Superior a participar del Módulo: “Lo que los docentes de cualquier disciplina podemos hacer: mediaciones para la formación de lectores y escritores académicos” del Curso de Formación Pedagógica-Didáctica – NIVEL II. \nEl mismo se desarrollará bajo la modalidad virtual\, los días Jueves 16\, 23 y 30 de Junio\, y jueves 7 de Julio\, de 18 a 19.30 hs. y estará a cargo de la Dra. Ornela Barisone. \nPara mayor información e inscripción\, escribir a: mrgomez@ucsf.edu.ar \nVer programa completo
URL:https://www.ucsf.edu.ar/evento/mediaciones-para-la-formacion-de-lectores-y-escritores-academicos-cfd-nivel-ii/
LOCATION:Virtual\, Argentina
CATEGORIES:Asesoría Pedagógica,Docentes
ORGANIZER;CN="Asesor%C3%ADa%20Pedag%C3%B3gica":MAILTO:asepedagogica@ucsf.edu.ar
END:VEVENT
END:VCALENDAR