BEGIN:VCALENDAR
VERSION:2.0
PRODID:-//UCSF - Universidad Católica de Santa Fe - ECPv5.14.2.1//NONSGML v1.0//EN
CALSCALE:GREGORIAN
METHOD:PUBLISH
X-WR-CALNAME:UCSF - Universidad Católica de Santa Fe
X-ORIGINAL-URL:https://www.ucsf.edu.ar
X-WR-CALDESC:Events for UCSF - Universidad Católica de Santa Fe
REFRESH-INTERVAL;VALUE=DURATION:PT1H
X-Robots-Tag:noindex
X-PUBLISHED-TTL:PT1H
BEGIN:VTIMEZONE
TZID:America/Argentina/Buenos_Aires
BEGIN:STANDARD
TZOFFSETFROM:-0300
TZOFFSETTO:-0300
TZNAME:-03
DTSTART:20220101T000000
END:STANDARD
END:VTIMEZONE
BEGIN:VEVENT
DTSTART;TZID=America/Argentina/Buenos_Aires:20220409T000000
DTEND;TZID=America/Argentina/Buenos_Aires:20220719T000000
DTSTAMP:20260420T031307
CREATED:20220202T162825Z
LAST-MODIFIED:20220719T122432Z
UID:49481-1649462400-1658188800@www.ucsf.edu.ar
SUMMARY:Diplomatura en Prácticas Estratégicas (DiPraEs)
DESCRIPTION:El “Programa Universidad Abierta para la Casa Común“\, dependiente de la Secretaría de Ciencia y Técnica\, y Extensión\, en conjunto con la Fundación EPYCA ((Equipo de producción y construcción alternativa) comunican que se encuentra abierta la inscripción para la “Diplomatura en Prácticas Estratégicas”. \nFinalidad\nFormar estratégicamente mediante el desarrollo de ensambles prosumidores. \nTítulo \nCertificado de Aprobación y / o Cursado de la Diplomatura en Prácticas Estratégicas (DiPraEs) \nObjetivos de la Diplomatura \nObjetivo General\nEstrategizar prácticas socioproductivas tendientes al bien común \nObjetivos Específicos \n• Diseñar y desarrollar prácticas socioproductivas con los cursantes.\n• Superar y/o resolver situaciones sociales\, culturales\, políticas\, epistemológicas\, metodológicas y\nproductivas\, estrategizando integralmente.\n• Entramar prácticas locales\, provinciales\, regionales\, nacionales\, latinoamericanas e internacionales. \nDestinatarios\nDiPraEs está dirigida a la población en general: profesionales\, productores\, militantes sociales\, técnicos\, docentes\ny estudiantes. No requiere formación previa. \nComienzo de cursado: sábado 9 de abril (Una vez por mes). Duración: 9 meses \nInscripciones online: https://www.eventbrite.com.ar/e/diplomatura-en-practicas-estrategicas-tickets-261021541457?aff=Inscripciones \nCoordinación general: Dra. Mercedes Gagneten \nCV  abreviado: \nDoctorado UBA\, Facultad de Filosofía y Letras\, 2008 / Maestría en Historia Latinoamericana\, Universidad\nInternacional de Andalucía\, España\, 1999 / Trabajadora Social / Profesora Titular Jubilada “Seminario de Cultura\nPopular”\, Carrera de Trabajo Social\, Facultad de Ciencias Sociales\, Universidad de Buenos Aires\, 1993 a 2016 /\nProfesora Titular Jubilada “Seminario Educación Ambiental y Antropología Cultural”\, Facultad de Bioquímica y\nCiencias Biológicas\, Universidad Nacional del Litoral\, 1999 a 2014 / Profesora Titular “Seminario Observación y\nAnálisis de Problemas Sociales”\, Carrera de Nutrición\, Facultad de Ciencias de la Salud\, Universidad Católica de\nSanta Fe\, 2012 a la fecha / Presidenta Fundación EPyCA (Equipo de Producción y Construcción Alternativa\, 2005\na la fecha). \nCoordinación Académica: Dr. Guillermo Kerz \nCV  abreviado:\nDoctor en Medicina KAAD – BONN – ALEMANIA / Vicerrector Académico de la Universidad Católica de Santa Fe\n/ Miembro de la Comisión de Educación Medica Continua de Postgrado en Colegio de Médicos de Santa Fe /\nDocente titular de la Cátedra de fisiología de la Licenciatura en Obstetricia / Médico Especialista en Ginecología y\nObstetricia. \nPara informes: contactarse vía E-mail a ysilva@epyca.org.ar y/o nmachado@epyca.org.ar
URL:https://www.ucsf.edu.ar/evento/diplomatura-en-practicas-estrategicas-dipraes/
LOCATION:Santa Fe
CATEGORIES:Santa Fe,Alumnos,Docentes,Rosario,Personal UCSF,Posadas,Reconquista,Rafaela,Gualeguaychú,Sedes,Extensión,Investigación
ATTACH;FMTTYPE=image/jpeg:https://www.ucsf.edu.ar/wp-content/uploads/2022/02/Diplomatura-en-Practicas-Estrategicas.jpg
END:VEVENT
BEGIN:VEVENT
DTSTART;TZID=America/Argentina/Buenos_Aires:20220602T100000
DTEND;TZID=America/Argentina/Buenos_Aires:20220622T220221
DTSTAMP:20260420T031307
CREATED:20220622T220218Z
LAST-MODIFIED:20220622T220218Z
UID:52508-1654164000-1655935341@www.ucsf.edu.ar
SUMMARY:Conmemoración de la Guerra de Malvinas
DESCRIPTION:A los 40 años del hundimiento del Crucero General Belgrano en la Guerra de Malvinas\, realizaremos un acto en el hall de la Universidad\, sede Virgen de Guadalupe\, al que invitamos a toda la comunidad. \nNos acompañarán Veteranos y familiares de caídos en Malvinas\, a quienes queremos recordar y homenajear\, en este aniversario y por siempre. \n¡Los esperamos!
URL:https://www.ucsf.edu.ar/evento/conmemoracion-de-la-guerra-de-malvinas/
LOCATION:UCSF Santa Fe\, Echagüe 7151\, Santa Fe\, Santa Fe\, Argentina
CATEGORIES:Home principal,Santa Fe,Facultades,Alumnos,Carreras de Grado,Docentes,Personal UCSF,Sedes,Extensión
ATTACH;FMTTYPE=image/png:https://www.ucsf.edu.ar/wp-content/uploads/2022/06/malvinas.png
GEO:-31.6069451;-60.6709418
X-APPLE-STRUCTURED-LOCATION;VALUE=URI;X-ADDRESS=UCSF Santa Fe Echagüe 7151 Santa Fe Santa Fe Argentina;X-APPLE-RADIUS=500;X-TITLE=Echagüe 7151:geo:-60.6709418,-31.6069451
END:VEVENT
BEGIN:VEVENT
DTSTART;TZID=America/Argentina/Buenos_Aires:20220609T073000
DTEND;TZID=America/Argentina/Buenos_Aires:20220622T210448
DTSTAMP:20260420T031307
CREATED:20220622T210445Z
LAST-MODIFIED:20220622T210445Z
UID:52490-1654759800-1655931888@www.ucsf.edu.ar
SUMMARY:Chocolatada por los 65 años de la Universidad
DESCRIPTION:Con motivo de los 65 baños de nuestra Universidad\, queremos celebrar en comunidad\, compartiendo una chocolatada en cada una de las sedes. \nLos horarios son los siguientes: \nSanta Fe: 10 y 16hs\nRafaela: 10 y 17hs\nRosario: 10 y 17.30hs\nPosadas: 9.30 y 16.30hs\nReconquista: 10 y 17.30hs\nGualeguaychú: 18hs \n¡Los esperamos a todos!
URL:https://www.ucsf.edu.ar/evento/chocolatada-por-los-65-anos-de-la-universidad/
LOCATION:UCSF\, Echagüe 7151\, Santa Fe Capital\, Santa Fe\, 3000\, Argentina
CATEGORIES:Home principal,Alumnos,Santa Fe,Facultades,Docentes,Rosario,Carreras de Grado,Personal UCSF,Posadas,Reconquista,Rafaela,Gualeguaychú,Sedes,Extensión
ATTACH;FMTTYPE=image/jpeg:https://www.ucsf.edu.ar/wp-content/uploads/2022/06/CHOCOLATE-novedades-2.jpg
END:VEVENT
BEGIN:VEVENT
DTSTART;TZID=America/Argentina/Buenos_Aires:20220621T170000
DTEND;TZID=America/Argentina/Buenos_Aires:20220621T183000
DTSTAMP:20260420T031307
CREATED:20220618T232725Z
LAST-MODIFIED:20220620T114032Z
UID:52385-1655830800-1655836200@www.ucsf.edu.ar
SUMMARY:Pacto Educativo Global: Creación de la mesa multisectorial
DESCRIPTION:Si te interesa\, mira este Power.\n(marcar en presentación y transcurre automáticamente) \n \nEn el 3er piso. Aula 4:53. Presencial. \n 
URL:https://www.ucsf.edu.ar/evento/pacto-educativo-global-creacion-de-la-mesa-multisectorial/
LOCATION:UCSF Santa Fe\, Echagüe 7151\, Santa Fe\, Santa Fe\, Argentina
CATEGORIES:Santa Fe,Alumnos,Docentes,Rosario,Posadas,Personal UCSF,Reconquista,Rafaela,Gualeguaychú,Sedes,Extensión
ORGANIZER;CN="Vicerrectorado%20Acad%C3%A9mico":MAILTO:vrecacad@ucsf.edu.ar
GEO:-31.6069451;-60.6709418
X-APPLE-STRUCTURED-LOCATION;VALUE=URI;X-ADDRESS=UCSF Santa Fe Echagüe 7151 Santa Fe Santa Fe Argentina;X-APPLE-RADIUS=500;X-TITLE=Echagüe 7151:geo:-60.6709418,-31.6069451
END:VEVENT
BEGIN:VEVENT
DTSTART;TZID=America/Argentina/Buenos_Aires:20220621T170000
DTEND;TZID=America/Argentina/Buenos_Aires:20220621T200000
DTSTAMP:20260420T031307
CREATED:20220616T155534Z
LAST-MODIFIED:20220616T160128Z
UID:52369-1655830800-1655841600@www.ucsf.edu.ar
SUMMARY:Conferencia y Mesa de Debate: Fredy Massad / Norberto Feal
DESCRIPTION:El próximo martes 21 de Junio a las 17 horas se llevará a cabo una Conferencia y Mesa de Debate que desarrollarán dos referentes de la crítica arquitectónica contemporánea: los Arquitectos Fredy Massad y Norberto Feal.  \nLa Conferencia es organizada por la Facultad de Arquitectura y Diseño – FAD UCSF y el  Colegio de Arquitectos de la Provincia de Santa Fe – CAPSF D1. \nTendrá lugar en la UCSF\, Echagüe 7151\, en el Aula 3.51\, modalidad presencial y virtual. \nLos ponentes Fredy Massad y Norberto Feal\, ambos arquitectos y docentes de universidades reconocidas a nivel nacional  (UBA\, UPC\, Universidad de Morón)  e invitados en otras instituciones prestigiosas de España y Estados Unidos\, poseen una profusa experiencia en el campo de la reflexión disciplinar. \nSus publicaciones bien hablan de sus compromisos con el quehacer proyectual local en las márgenes de la historia argentina como recursos necesarios y contribución teórica fundamental. \nEn sentido cronológico Feal se referirá al fenómeno que en Argentina se da entre 1965 y 1975\, como articulación de tensiones que emergen de décadas previas tanto en el sentido de apego a corrientes internacionales como a tensiones locales respecto de una arquitectura vernácula\, para así establecer pautas de lectura en aquellas continuidades que marcan un proceso atravesado por el posmodernismo\, y que derivan en parte de la producción arquitectónica contemporánea. \nPor otro lado\, Massad enfocará una modalidad presente en una suerte de deriva de la nada\, en la acción de lo que él denomina story-tellers como aquellos narradores que\, remplazando teorías por anécdotas\, han acabado estableciendo un territorio cada vez más tendiente a las simplificaciones\, sin espacio para las ideas y el debate.
URL:https://www.ucsf.edu.ar/evento/conferencia-y-mesa-de-debate-fredy-massad-norberto-feal/
LOCATION:UCSF Santa Fe\, Echagüe 7151\, Santa Fe\, Santa Fe\, Argentina
CATEGORIES:Arquitectura y Diseño,Arquitectura,Alumnos,Docentes,Sedes
ATTACH;FMTTYPE=image/jpeg:https://www.ucsf.edu.ar/wp-content/uploads/2022/06/Jornada-debate_feed3.jpg
ORGANIZER;CN="Facultad%20de%20Arquitectura%20y%20Dise%C3%B1o-%20Santa%20Fe":MAILTO:arquitec@ucsf.edu.ar
GEO:-31.6069451;-60.6709418
X-APPLE-STRUCTURED-LOCATION;VALUE=URI;X-ADDRESS=UCSF Santa Fe Echagüe 7151 Santa Fe Santa Fe Argentina;X-APPLE-RADIUS=500;X-TITLE=Echagüe 7151:geo:-60.6709418,-31.6069451
END:VEVENT
BEGIN:VEVENT
DTSTART;TZID=America/Argentina/Buenos_Aires:20220624T150000
DTEND;TZID=America/Argentina/Buenos_Aires:20220624T160000
DTSTAMP:20260420T031307
CREATED:20220528T154110Z
LAST-MODIFIED:20220528T154331Z
UID:51928-1656082800-1656086400@www.ucsf.edu.ar
SUMMARY:Catedra abierta de Derechos Humanos
DESCRIPTION:  \nLa Cátedra Abierta de Derechos Humanos  procura instaurar una ‘plataforma horizontal de intercambio de saberes’ sobre problemáticas actuales relacionadas con los Derechos Humanos. Este proyecto de extensión surge a partir de la necesidad y conveniencia no sólo de comunicar y difundir los avances y resultados obtenidos\, sino ante todo de consolidar lazos con otras instituciones académicas\, así como de intercambiar perspectivas con otros ámbitos\, incluso no estríctamente académicos como la política\, la economía y la práctica jurídica. \n  \n  \n  \n  \n  \n  \n  \n  \n  \ncoorganizada con Fundación Ecoceno \nen Colaboración con el Programa Universidad para la Casa Común de la Secretaría de Ciencia\, Técnica y Extensión de la UCSF
URL:https://www.ucsf.edu.ar/evento/catedra-abierta-de-derechos-humanos-5/2022-06-24/
LOCATION:UCSF Santa Fe\, Echagüe 7151\, Santa Fe\, Santa Fe\, Argentina
CATEGORIES:Investigación Ecojurídica,Alumnos,Docentes
GEO:-31.6069451;-60.6709418
X-APPLE-STRUCTURED-LOCATION;VALUE=URI;X-ADDRESS=UCSF Santa Fe Echagüe 7151 Santa Fe Santa Fe Argentina;X-APPLE-RADIUS=500;X-TITLE=Echagüe 7151:geo:-60.6709418,-31.6069451
END:VEVENT
BEGIN:VEVENT
DTSTART;TZID=America/Argentina/Buenos_Aires:20220624T160000
DTEND;TZID=America/Argentina/Buenos_Aires:20220624T180000
DTSTAMP:20260420T031307
CREATED:20220621T162621Z
LAST-MODIFIED:20220621T164339Z
UID:52411-1656086400-1656093600@www.ucsf.edu.ar
SUMMARY:Defensa de Tesis- Pablo Storani - Maestría en Evaluación de Impacto y Gestión Ambiental -Posgrado
DESCRIPTION:  \nEl Departamento de Posgrado de la Universidad Católica de Santa Fe invita al acto de Defensa de Tesis que se llevará a cabo el próximo viernes 24 de junio del corriente año\, en el marco de la carrera de Posgrado\, Maestría en Evaluación de Impacto y Gestión Ambiental. \nCandidato: Lic. Pablo Alfredo Storani. \nDirección de Tesis: Dr. Ignacio Daniel Coria. \n  \nTítulo de Tesis: \n“Implementación de la GIRH para una Gestión Ambiental Sostenible. Caso Cuenca Inferior Laguna Setúbal (Pcia. de Santa Fe)”. \nMiembros del Tribunal Examinador: \n– Dra. Nora Rosa Aimaretti. \n– Dra. Sabrina Noemí Hernández Guiance. \n– Mgter.  Adolfo Alfredo Rojas Mors. \n  \nHorario de Defensa: 16:00 hs            –           Modalidad: ZOOM \n  \nUnirse a la reunión Zoom   \nhttps://zoom.us/j/91356564817?pwd=bHAvTnc0OWZFdVJNQlFlZUV4ckRVUT09   \n  \nID de reunión: 913 5656 4817   \nCódigo de acceso: 24062022   \n  \n  \n  \n 
URL:https://www.ucsf.edu.ar/evento/defensa-de-tesis-pablo-storani-maestria-en-evaluacion-de-impacto-y-gestion-ambiental-posgrado/
LOCATION:Vía Zoom\, Argentina
CATEGORIES:Santa Fe,Maestría en Evaluación de Impacto y Gestión Ambiental,Alumnos,Docentes,Personal UCSF,Carreras de Posgrado,Sedes
ATTACH;FMTTYPE=image/jpeg:https://www.ucsf.edu.ar/wp-content/uploads/2022/06/MEIGA-4.jpg
END:VEVENT
BEGIN:VEVENT
DTSTART;TZID=America/Argentina/Buenos_Aires:20220624T190000
DTEND;TZID=America/Argentina/Buenos_Aires:20220624T200000
DTSTAMP:20260420T031307
CREATED:20220623T125852Z
LAST-MODIFIED:20220623T125852Z
UID:52525-1656097200-1656100800@www.ucsf.edu.ar
SUMMARY:Charla informativa: convocatoria 2022 -2023 de Salud investiga.
DESCRIPTION:El Programa Universidad Abierta\, dependiente de la la Secretaría de Ciencia y Técnica y Extensión y el Instituto de Investigación de  la Facultad de Ciencias de la Salud\, comunican que se encuentra abierta la inscripción para Charla informativa sobre la convocatoria 2022 -2023 de Salud investiga. \nEl Ministerio de Salud de la Nación ofrece becas para estudios individuales o multicéntricos que aborden un tema priorizado. \nDestinatarios: Equipos de investigación cuyos profesionales desempeñan sus actividades preferentemente en hospitales y centros de atención primaria de la salud\, universidades\, institutos universitarios\, organizaciones gubernamentales y no gubernamentales \nBecas a otorgar: 250 \nCategorías: Estudios Individuales (EI) y Estudios de Múltiples Investigadores/as (EMI).\nOfrece una remuneración anual por becario de $534.000 \nCierre de la convocatoria 30 de junio 2022 \nDisertante: Celeste Nessier \nInscripciones a la charla: https://www.eventbrite.com.ar/e/charla-informativa-sobre-la-convocatoria-2022-2023-de-salud-investiga-tickets-372706022747?aff=Inscripciones \nUnirse a la reunión Zoom\nhttps://zoom.us/j/94930326545 \nID de reunión: 949 3032 6545 \nContacto: celenessier@yahoo.com.ar
URL:https://www.ucsf.edu.ar/evento/charla-informativa-convocatoria-2022-2023-de-salud-investiga/
LOCATION:UCSF Santa Fe\, Echagüe 7151\, Santa Fe\, Santa Fe\, Argentina
CATEGORIES:Santa Fe,Alumnos,Docentes,Rosario,Personal UCSF,Posadas,Reconquista,Rafaela,Gualeguaychú,Sedes,Extensión,Investigación
ORGANIZER;CN="Vicerrectorado%20Acad%C3%A9mico":MAILTO:vrecacad@ucsf.edu.ar
GEO:-31.6069451;-60.6709418
X-APPLE-STRUCTURED-LOCATION;VALUE=URI;X-ADDRESS=UCSF Santa Fe Echagüe 7151 Santa Fe Santa Fe Argentina;X-APPLE-RADIUS=500;X-TITLE=Echagüe 7151:geo:-60.6709418,-31.6069451
END:VEVENT
END:VCALENDAR