BEGIN:VCALENDAR
VERSION:2.0
PRODID:-//UCSF - Universidad Católica de Santa Fe - ECPv5.14.2.1//NONSGML v1.0//EN
CALSCALE:GREGORIAN
METHOD:PUBLISH
X-WR-CALNAME:UCSF - Universidad Católica de Santa Fe
X-ORIGINAL-URL:https://www.ucsf.edu.ar
X-WR-CALDESC:Events for UCSF - Universidad Católica de Santa Fe
REFRESH-INTERVAL;VALUE=DURATION:PT1H
X-Robots-Tag:noindex
X-PUBLISHED-TTL:PT1H
BEGIN:VTIMEZONE
TZID:America/Argentina/Buenos_Aires
BEGIN:STANDARD
TZOFFSETFROM:-0300
TZOFFSETTO:-0300
TZNAME:-03
DTSTART:20220101T000000
END:STANDARD
END:VTIMEZONE
BEGIN:VEVENT
DTSTART;TZID=America/Argentina/Buenos_Aires:20220729T180000
DTEND;TZID=America/Argentina/Buenos_Aires:20220729T190000
DTSTAMP:20260420T043858
CREATED:20220726T125655Z
LAST-MODIFIED:20220726T125655Z
UID:53078-1659117600-1659121200@www.ucsf.edu.ar
SUMMARY:Carrera del Investigador de la UCSF
DESCRIPTION:El Vicerrectorado Académico a través del  Programa Universidad Abierta\, comunica que se encuentra abierta la inscripción a la Carrera del Investigador de la UCSF. \nObjetivos generales: \n-Explicar los requisitos de la convocatoria.\n-Suministrar información respecto a las categorías y el manual de procedimiento para la presentación a la carrera del Investigador de a UCSF \nExpositor: Dr. Juan Carlos Alby \nDía y horario: viernes 29 de julio\, 18 horas. \nModalidad virtual \nInscripciones en: https://www.eventbrite.com.ar/e/carrera-del-investigador-de-la-ucsf-tickets-391068936717?aff=Inscripciones \n  \nUnirse a la reunión Zoom\nhttps://zoom.us/j/92930456855 \nID de reunión: 929 3045 6855 \n  \nInformes: Dra. Vanina Sturla: Coordinadora PUA. nsturla@ucsf.edu.ar
URL:https://www.ucsf.edu.ar/evento/carrera-del-investigador-de-la-ucsf-2/
LOCATION:UCSF Santa Fe\, Echagüe 7151\, Santa Fe\, Santa Fe\, Argentina
CATEGORIES:Editorial,Alumnos,Santa Fe,Docentes,Rosario,Posadas,Personal UCSF,Reconquista,Rafaela,Gualeguaychú,Sedes,Extensión,Investigación
GEO:-31.6069451;-60.6709418
X-APPLE-STRUCTURED-LOCATION;VALUE=URI;X-ADDRESS=UCSF Santa Fe Echagüe 7151 Santa Fe Santa Fe Argentina;X-APPLE-RADIUS=500;X-TITLE=Echagüe 7151:geo:-60.6709418,-31.6069451
END:VEVENT
BEGIN:VEVENT
DTSTART;TZID=America/Argentina/Buenos_Aires:20220729T180000
DTEND;TZID=America/Argentina/Buenos_Aires:20220729T200000
DTSTAMP:20260420T043858
CREATED:20220531T134755Z
LAST-MODIFIED:20220531T135029Z
UID:52060-1659117600-1659124800@www.ucsf.edu.ar
SUMMARY:“Sujetos de la Educación Superior" CFD – NIVEL II
DESCRIPTION:La Subsecretaría de Asesoría Pedagógica de la UCSF\, dependiente de la Secretaría Académica de Rectorado\, invita a los docentes de todas las Sedes de la Universidad y a docentes de otras instituciones de Nivel Superior a participar del Módulo: “Sujetos de la Educación Superior” del Curso de Formación Pedagógica-Didáctica – NIVEL II. \nEl mismo se desarrollará bajo la modalidad virtual\, los días Viernes 29 de Julio\, 5\, 12\, 19 y 26 de Agosto\, de 18 a 20 hs. y estará a cargo de la Dra. Verónica Rebaudino. \nPara mayor información e inscripción\, escribir a: mrgomez@ucsf.edu.ar \nVer programa completo
URL:https://www.ucsf.edu.ar/evento/52060/
LOCATION:Virtual\, Argentina
CATEGORIES:Asesoría Pedagógica,Docentes
ORGANIZER;CN="Asesor%C3%ADa%20Pedag%C3%B3gica":MAILTO:asepedagogica@ucsf.edu.ar
END:VEVENT
END:VCALENDAR