BEGIN:VCALENDAR
VERSION:2.0
PRODID:-//UCSF - Universidad Católica de Santa Fe - ECPv5.14.2.1//NONSGML v1.0//EN
CALSCALE:GREGORIAN
METHOD:PUBLISH
X-WR-CALNAME:UCSF - Universidad Católica de Santa Fe
X-ORIGINAL-URL:https://www.ucsf.edu.ar
X-WR-CALDESC:Events for UCSF - Universidad Católica de Santa Fe
REFRESH-INTERVAL;VALUE=DURATION:PT1H
X-Robots-Tag:noindex
X-PUBLISHED-TTL:PT1H
BEGIN:VTIMEZONE
TZID:America/Argentina/Buenos_Aires
BEGIN:STANDARD
TZOFFSETFROM:-0300
TZOFFSETTO:-0300
TZNAME:-03
DTSTART:20220101T000000
END:STANDARD
END:VTIMEZONE
BEGIN:VEVENT
DTSTART;VALUE=DATE:20220801
DTEND;VALUE=DATE:20221206
DTSTAMP:20260419T193659
CREATED:20220622T193013Z
LAST-MODIFIED:20220622T194007Z
UID:52483-1659312000-1670284799@www.ucsf.edu.ar
SUMMARY:Curso de Posgrado Virtual - Ecología Integral y Cuidado de la Casa Común - UCSF
DESCRIPTION:  \nEl presente curso se plantea como marco formativo institucional transversal para las carreras de Posgrado de la UCSF\, en torno a la propuesta teórica de la ecología integral que esbozan las encíclicas papales Laudato Si’ y Fratelli Tutti. \nEl programa ofrece herramientas discursivas actuales y transformadoras que apelan a colocar a los programas académicos a la altura de los desafíos que presentan las graves crisis de convivencia eco-social\, que profundizó y expuso la pandemia Covid-19. \nObjetivos: \nGenerar un espacio de debate y análisis crítico y prospectivo de los modelos de convivencia socio-ecológica en la Casa Común\, desde el enfoque de la ecología integral. \nAnalizar las relaciones entre las crisis socio-ecológicas vigentes y el modelo del desarrollo. \nComprender la íntima vinculación entre las crisis sociales y las ambientales. \nReconocer los fundamentos y principios de la cultura del encuentro \nAdquirir conocimientos sobre el concepto de conversión ecológica y su vinculación con la ética del cuidado. \n  \nModalidad: Virtual. \nDuración:  4 meses – Total de carga horaria: 120 hs. \nArancel: $ 16.000 \n  \nEquipo Académico: \nDra. Ana María Bonet (Dirección y docencia). \nLic. Emmanuel Poretti (Coordinación y tutoría académica). \nDr. Adrián Beling (Docente invitado). \nAbog. Esteban Piva (Tutor). \n  \nPara informes e inscripción comunicarse a : \nepiva@ucsf.edu.ar \ncsieliwonczyk@ucsf.edu.ar \n  \n 
URL:https://www.ucsf.edu.ar/evento/curso-de-posgrado-virtual-ecologia-integral-y-cuidado-de-la-casa-comun-ucsf/
LOCATION:Virtual\, Argentina
CATEGORIES:Doctorado en Filosofía,Santa Fe,Maestría en Evaluación de Impacto y Gestión Ambiental,Alumnos,Especialización en Terapias Cognitivas,Docentes,Personal UCSF,Carreras de Posgrado,Especialización en Gestión Integral del Hábitat,Doctorado en Ciencias Jurídicas,Doctorado en Educación,Sedes,Maestría en Relaciones Internacionales
ATTACH;FMTTYPE=image/jpeg:https://www.ucsf.edu.ar/wp-content/uploads/2022/06/ecologia-integral-final_flyer.jpg
END:VEVENT
BEGIN:VEVENT
DTSTART;TZID=America/Argentina/Buenos_Aires:20220801T093000
DTEND;TZID=America/Argentina/Buenos_Aires:20221114T113000
DTSTAMP:20260419T193659
CREATED:20220707T040523Z
LAST-MODIFIED:20220707T040523Z
UID:52859-1659346200-1668425400@www.ucsf.edu.ar
SUMMARY:Diplomatura en Pastoral Educativa
DESCRIPTION:DIPLOMATURA VIRTUAL EN PASTORAL EDUCATIVA \nInicia: 1 de Agosto de 2022. \nLa Diplomatura en Pastoral Educativa es una iniciativa que nace en el seno del Área Pastoral de la Junta Arquidiocesana de Educación de Santa Fe. A su vez\, surge también como respuesta a la demanda de formación específica para agentes pastorales que desarrollan sus actividades en instituciones educativas. \nTiene como fin brindar un espacio de formación\, reflexión y cualificación de la praxis pastoral. Nutridos por el magisterio desafiante del Papa Francisco mediante su llamado a la fraternidad\, a concebir una iglesia en salida\, de pirámide invertida\, sinodal\, y de comprender el servicio del Buen Pastor como necesidad urgente\, la Diplomatura se presenta como oportunidad para encarnar dichas intuiciones en perspectivas y marcos de acción para la renovación de la pastoral en la escuela\, provocando una mirada crítica de los procesos sociales\, eclesiales\, educativos y políticos actuales\, a los fines de resignificarlos. \nPromoviendo la cultura del encuentro y de la amistad social\, busca crear un ámbito formal de formación (capacitación) en el marco de la Universidad Católica de Santa Fe\, que no sea excluyente. El objetivo principal de este itinerario es reunir a todas las personas preocupadas por los procesos pastorales. Mediante un cuidadoso acompañamiento de tutores y docentes\, se intenta ofrecer una trayectoria educativa de calidad a cada uno de ellos\, sin importar sus antecedentes académicos. En dicho trayecto se tendrá una mirada interdisciplinaria combinando aportes de las ciencias sociales\, pedagogía\, teología\, Doctrina Social de la Iglesia\, experiencias de trabajo y otras perspectivas pertinentes. \nEs interés de la propuesta propiciar un ámbito de encuentro\, reflexión y formación para educadores comprometidos con la pastoral educativa en el marco de la Universidad. El paradigma del encuentro propuesto por el Papa Francisco será el sustento de la propuesta formativa. Generar una oportunidad para cualificar la praxis de los educadores\, mediante los aportes de las diversas ciencias sociales en sus diversas ramas\, el Magisterio eclesial\, la Doctrina Social de la Iglesia y otros recursos\, que permitan cualificar la formación en tomo a la pastoral y su vinculación con la escuela\, a los fines de vincular teoría y práctica. También se presenta como oportunidad de socialización de experiencias consolidadas que evidencien el trabajo en conjunto en las instituciones educativas\, ayuden a clarificar los aportes teóricos de los diversos módulos y fomenten los aportes de la Diplomatura. Puede colaborar al fortalecimiento de redes inter institucionales y conocimiento entre los educadores\, mediante el aporte de herramientas para el abordaje transversal de la pastoral en las instituciones educativas\, en los barrios y el contexto\, mediante el diseño\, 1a gestión y evaluación de proyectos pastorales. \nDuración: 4 meses. \nInformes e inscripción: diplomaturapasteduc@ucsf.edu.ar \nDIPLOMATURA PASTORAL EDUCATIVA BROCHURE 2022 \n  \n  \n 
URL:https://www.ucsf.edu.ar/evento/diplomatura-en-pastoral-educativa/
LOCATION:UCSF\, Echagüe 7151\, Santa Fe Capital\, Santa Fe\, 3000\, Argentina
CATEGORIES:Alumnos,Docentes,Personal UCSF,Vicerrectorado de Formación
ATTACH;FMTTYPE=image/jpeg:https://www.ucsf.edu.ar/wp-content/uploads/2022/07/dpilomatura-en-pastoral-educativa_ucsf-net_facebook.jpg
END:VEVENT
BEGIN:VEVENT
DTSTART;VALUE=DATE:20220808
DTEND;VALUE=DATE:20220927
DTSTAMP:20260419T193659
CREATED:20220621T203341Z
LAST-MODIFIED:20220621T203344Z
UID:52449-1659916800-1664236799@www.ucsf.edu.ar
SUMMARY:Micro-credencial de Posgrado: Cooperación e Internacionalización de Gobiernos Subnacionales
DESCRIPTION:  \nLos nuevos desafíos de la internacionalización y globalización necesitan de recursos humanos formados capaces de enfrentar los desafíos y aprovechar las oportunidades de este nuevo escenario. Para lo cual\, es necesario el desarrollo de conocimientos\, aptitudes y destrezas en la vinculación internacional\, formulación y gestión de proyectos\, atracción de inversiones\, participación en redes entre otros aspectos. En Latinoamérica casi el 80% de las personas vive en ciudades\, territorio en el que se deben articular y ejecutar gran parte de las agendas discutidas a nivel internacional (Hábitat III\, Cop21\, ODS)\, no obstante\, las ciudades y los actores del territorio no disponen de espacios de formación para que aborden estas problemáticas. Es por ello\, que esta propuesta formativa busca dar respuesta a la demanda de formación a los actores del territorio (ciudades\, gobiernos provinciales\, ONGS\, universidades\, instituciones del ámbito privado\, etc) que buscan participar activamente de este proceso. \n  \nEsta micro-credencial certifica conocimientos y habilidades relativas a: \n\nLa comprensión del contexto internacional\, permitiéndole articular el territorio con las externalidades positivas de la globalización.\nLlevar adelante acciones de internacionalización articulando estrategias con socios internacionales (Organismos de Financiamiento\, Partners internacionales\, Gobiernos etc)\, en un mundo en donde lo internacional se ha transformado en parte de la vida diaria de muchos actores del territorio.\n\n  \nProfesor: Dr. Simón González. \nDedicación sincrónica: 60 horas – Dedicación asincrónica 36 horas \nInicio Agosto 2022 – \nDuración 8 semanas – \nArancel: $ 16.500 \n  \nInscribirme \n  \nPara consultas e inscripción comunicarse a: \nposgrado@ucsf.edu.ar \nsimongonzalez@ucsf.edu.ar \n  \n 
URL:https://www.ucsf.edu.ar/evento/micro-credencial-de-posgrado-cooperacion-e-internacionalizacion-de-gobiernos-subnacionales/
LOCATION:UCSF Santa Fe\, Echagüe 7151\, Santa Fe\, Santa Fe\, Argentina
CATEGORIES:Doctorado en Filosofía,Santa Fe,Maestría en Evaluación de Impacto y Gestión Ambiental,Alumnos,Especialización en Terapias Cognitivas,Docentes,Personal UCSF,Carreras de Posgrado,Especialización en Gestión Integral del Hábitat,Doctorado en Ciencias Jurídicas,Doctorado en Educación,Sedes,Maestría en Relaciones Internacionales
ATTACH;FMTTYPE=image/jpeg:https://www.ucsf.edu.ar/wp-content/uploads/2022/06/Curso-de-posgrado-cooperacion-e-internacionalizacion-de-gobiernos-subnacionales_facebook.jpg
GEO:-31.6069451;-60.6709418
X-APPLE-STRUCTURED-LOCATION;VALUE=URI;X-ADDRESS=UCSF Santa Fe Echagüe 7151 Santa Fe Santa Fe Argentina;X-APPLE-RADIUS=500;X-TITLE=Echagüe 7151:geo:-60.6709418,-31.6069451
END:VEVENT
BEGIN:VEVENT
DTSTART;VALUE=DATE:20220808
DTEND;VALUE=DATE:20221108
DTSTAMP:20260419T193659
CREATED:20221116T210911Z
LAST-MODIFIED:20221116T211035Z
UID:52956-1659916800-1667865599@www.ucsf.edu.ar
SUMMARY:Seminario Abierto de Posgrado UCSF (acreditable) – “Educación Argentina y Latinoamericana”
DESCRIPTION:Seminario Abierto de Posgrado UCSF (acreditable) – Educación Argentina y Latinoamericana. \n  \nDocentes: Prof. Dr. Carlos Cantero – Prof. Dr. Jorge Noro \nCursado según formato de presencialidad virtual \nDedicación sincrónica: 80 horas – Dedicación asincrónica 20 horas \nIncluye insignia digital. \nArancel: $ 30.000 \nConsultar formas de pago a posgrado@ucsf.edu.ar \nhttps://www.ucsf.edu.ar/posgrados/programa-de-educacion-continua/
URL:https://www.ucsf.edu.ar/evento/seminario-abierto-de-posgrado-ucsf-acreditable-educacion-argentina-y-latinoamericana/
LOCATION:Virtual\, Argentina
CATEGORIES:Santa Fe,Personal UCSF,Carreras de Posgrado,Doctorado en Educación,Sedes,IIEA Instituto de Investigaciones en Educación Argentina
ATTACH;FMTTYPE=image/jpeg:https://www.ucsf.edu.ar/wp-content/uploads/2022/07/EALAT.jpg
END:VEVENT
BEGIN:VEVENT
DTSTART;VALUE=DATE:20220926
DTEND;VALUE=DATE:20220927
DTSTAMP:20260419T193659
CREATED:20220914T221956Z
LAST-MODIFIED:20220923T195027Z
UID:54098-1664150400-1664236799@www.ucsf.edu.ar
SUMMARY:Taller formativo para estudiantes UCSF: Escribí bien\, rendí mejor
DESCRIPTION:Técnicas para mejorar la redacción de tus producciones escritas \nTaller a cargo de Lic. en Cs. De la Comunicación Laura Casenove \nMODALIDAD VIRTUAL \nPodés inscribirte en el horario que más te convenga: 15.30 hs o 19 hs \nDuración: 1 hora aprox. \n  \nCLICK AQUÍ PARA INSCRIBIRTE\nFormulario de Inscripción\n\n+ INFO\ntutorías@ucsf.edu.ar\n\n  \nCICLO DE TALLERES FORMATIVOS PARA ESTUDIANTES \nDesarrollo personal y estrategias de aprendizaje universitario \nPara estudiantes UCSF\, de todas las carreras y sedes \n10 propuestas virtuales/presenciales/híbridas\, abiertas y gratuitas \nDel 20 septiembre al 6 de octubre
URL:https://www.ucsf.edu.ar/evento/escribi-bien-rendi-mejor/
LOCATION:Vía Zoom\, Argentina
CATEGORIES:Alumnos,Docentes
ATTACH;FMTTYPE=image/jpeg:https://www.ucsf.edu.ar/wp-content/uploads/2022/09/EVENTO-WEB_3-escribi-bien-rendi-mejor.jpg
ORGANIZER;CN="%C3%81rea%20de%20Tutor%C3%ADas":MAILTO:tutorias@ucsf.edu.ar
END:VEVENT
BEGIN:VEVENT
DTSTART;TZID=America/Argentina/Buenos_Aires:20220926T180000
DTEND;TZID=America/Argentina/Buenos_Aires:20220927T213000
DTSTAMP:20260419T193659
CREATED:20220919T123323Z
LAST-MODIFIED:20220919T123323Z
UID:54236-1664215200-1664314200@www.ucsf.edu.ar
SUMMARY:Conferencia: Patologías y terapéuticas de la construcción. Generalidades y estudios de casos
DESCRIPTION:La Facultad de Arquitectura y Diseño (FAD) de la Universidad Católica de Santa Fe (UCSF) y el Colegio de Arquitectos de la Provincia de Santa Fe Distrito 1 (CAPSF D1) invitan a toda la matrícula y estudiantes de arquitectura a participar de la Conferencia “Patologías y terapéuticas de la construcción. Generalidades y estudios de casos”\, a cargo del Esp. Arq. Manuel Mina. \nSe desarrollará los días 26 y 27 de septiembre\, de 18 a 21:30 h\, en la sede del CAPSF D1 (San Martín 1754\, Santa Fe).\n\nRequiere inscripción previa aquí.\n\nTemas a abordar\n1era. jornada: metodología de diagnóstico y diseño de planes de intervención en patologías.\n2da. jornada: corrosión en elementos metálicos embutidos. Condensación y filtraciones.\n\nPrograma \n\n18:00 h: Presentación de actividad\n18:15 h: Disertación\n19:30 h: Break\n20:00 h: Disertación\n21:30 h: Fin\n\nSobre el disertante\nEsp. Arq. Manuel Alfredo Mina es Arquitecto por la UCSF. Especialista en Patologías y Terapéuticas de la construcción por la Universidad Tecnológica Nacional. Titular del estudio M\, dedicado a obras en general con especial atención a intervenciones en patologías y en obras de valor patrimonial. Docente Titular e investigador en la carrera de Arquitectura de la FAD de la UCSF. Secretario del Instituto de Historia\, Teoría y Crítica de la Arquitectura y el Patrimonio de la UCSF. Autor de artículos y ponencias para congresos y revistas científicas afines a la disciplina. Autor del Libro “La conservación del Patrimonio – Una Mirada Tecnológica de los Edificios de Estructura Híbrida”. Docente de Posgrado y Coordinador Académico de la Especialización en Patologías y Terapéuticas de la Construcción UTN. \nOrganizan: Facultad de Arquitectura y Diseño (FAD) de la Universidad Católica de Santa Fe (UCSF) y
URL:https://www.ucsf.edu.ar/evento/conferencia-patologias-y-terapeuticas-de-la-construccion-generalidades-y-estudios-de-casos/
LOCATION:UCSF Santa Fe\, Echagüe 7151\, Santa Fe\, Santa Fe\, Argentina
CATEGORIES:Arquitectura y Diseño,Arquitectura,Santa Fe
ATTACH;FMTTYPE=image/png:https://www.ucsf.edu.ar/wp-content/uploads/2022/09/patologias-01.png
GEO:-31.6069451;-60.6709418
X-APPLE-STRUCTURED-LOCATION;VALUE=URI;X-ADDRESS=UCSF Santa Fe Echagüe 7151 Santa Fe Santa Fe Argentina;X-APPLE-RADIUS=500;X-TITLE=Echagüe 7151:geo:-60.6709418,-31.6069451
END:VEVENT
BEGIN:VEVENT
DTSTART;VALUE=DATE:20220927
DTEND;VALUE=DATE:20220928
DTSTAMP:20260419T193659
CREATED:20220915T151518Z
LAST-MODIFIED:20220923T195202Z
UID:54102-1664236800-1664323199@www.ucsf.edu.ar
SUMMARY:Taller formativo para estudiantes UCSF: ¿Hacia dónde voy y para qué?
DESCRIPTION:Hablemos de proyecto universitario y sentido de la vida \nTaller a cargo del Lic. Psicol. Martin Alloatti y de la Lic. Psicop. Susana Mertes \nMODALIDAD VIRTUAL:  9.30 hs   \nMODALIDAD PRESENCIAL:   18 hs – Sede Virgen de Guadalupe\, Santa Fe – AULA 2.50 \nDuración: 1 hora aprox. \n\nCLICK AQUÍ PARA INSCRIBIRTE\nFormulario de Inscripción\n\n+ INFO\ntutorías@ucsf.edu.ar\n\n  \nCICLO DE TALLERES FORMATIVOS PARA ESTUDIANTES \nDesarrollo personal y estrategias de aprendizaje universitario \nPara estudiantes UCSF\, de todas las carreras y sedes \n10 propuestas virtuales/presenciales/híbridas\, abiertas y gratuitas \nDel 20 septiembre al 6 de octubre
URL:https://www.ucsf.edu.ar/evento/hacia-donde-voy-y-para-que-2/
LOCATION:Vía Zoom\, Argentina
CATEGORIES:Alumnos,Docentes
ATTACH;FMTTYPE=image/jpeg:https://www.ucsf.edu.ar/wp-content/uploads/2022/09/EVENTO-WEB_4-hacia-donde-voy.jpg
ORGANIZER;CN="%C3%81rea%20de%20Tutor%C3%ADas":MAILTO:tutorias@ucsf.edu.ar
END:VEVENT
BEGIN:VEVENT
DTSTART;TZID=America/Argentina/Buenos_Aires:20220927T150000
DTEND;TZID=America/Argentina/Buenos_Aires:20220927T170000
DTSTAMP:20260419T193659
CREATED:20220816T153404Z
LAST-MODIFIED:20220906T134041Z
UID:53526-1664290800-1664298000@www.ucsf.edu.ar
SUMMARY:Comunicación pública de la ciencia: un desafío colectivo
DESCRIPTION:Comunicación pública de la ciencia: un desafío colectivo  \nQue\, por qué\, cómo y quién de la comunicación pública de la ciencia. \nA cargo de Mg. Victoria Castro Demiryi – Responsable de comunicación en el Instituto de Agrobiotecnología del Litoral- IAL (CONICET-UNL) \nMartes 27 de septiembre – 15 hs. \nComplejo Multimedial UCSF \n  \nDirigido a alumnos y docentes de Comunicación\, investigadores\, interesados en la comunicación pública de la ciencia. \n  \n  \n Licenciada en Comunicación Social (FCE-UNER)\, Máster en Política y Gestión de la Ciencia y la Tecnología (FCE-UBA) y Doctoranda del Programa de Doctorado en Estudios Sociales (FHUC-UNL).  Ha realizado cursos de Periodismo Científico en la Fundación Instituto Leloir (FIL) y de Agente de Cultura Científica en la Facultad de Ciencias del Centro de Altos Estudios Universitarios de la OEI (CAEU). \nResponsable de comunicación en el Instituto de Agrobiotecnología del Litoral- IAL (CONICET-UNL) y docente en la Universidad Nacional del Litoral (UNL). \nEntre sus intereses se destacan el diseño de estrategias de comunicación científica pública en el área de la biotecnología y el estudio de las políticas de Ciencia\, Tecnología e Innovación a nivel subnacional. \nTrabajó en el Ministerio de Ciencia\, Tecnología e Innovación Productiva de la Nación como Consultor BID/BIRF en el área de Evaluación del FONCYT y Coordinador de Promoción del FONARSEC\, ambos de la Agencia Nacional de Promoción Científica y Tecnológica. Fue docente en la Universidad de Lanús\, la Universidad de San Martín\, el Instituto de Investigaciones Biotecnológicas de Chascomús y la Universidad de Ciencias Empresariales y Sociales (UCES). Actualmente se desempeña como docente de la Maestría en Desarrollo y Políticas Públicas de la Universidad Nacional del Litoral y participa del Laboratorio de Políticas Públicas de Ciencia y Tecnología de la UNESCO. \n 
URL:https://www.ucsf.edu.ar/evento/comunicacion-publica-de-la-ciencia-un-desafio-colectivo/
LOCATION:UCSF Santa Fe\, Echagüe 7151\, Santa Fe\, Santa Fe\, Argentina
CATEGORIES:Santa Fe,Facultades,Alumnos,Carreras de Grado,Docentes,Personal UCSF,Filosofía y Humanidades,Licenciatura en Ciencias de la Comunicación,Sedes
ATTACH;FMTTYPE=image/jpeg:https://www.ucsf.edu.ar/wp-content/uploads/2022/08/Comunicacion-publica-de-la-ciencia_feed.jpg
ORGANIZER;CN="Facultad%20de%20Filosofia%20y%20Humanidades":MAILTO:extensionffyh@ucsf.edu.ar
GEO:-31.6069451;-60.6709418
X-APPLE-STRUCTURED-LOCATION;VALUE=URI;X-ADDRESS=UCSF Santa Fe Echagüe 7151 Santa Fe Santa Fe Argentina;X-APPLE-RADIUS=500;X-TITLE=Echagüe 7151:geo:-60.6709418,-31.6069451
END:VEVENT
BEGIN:VEVENT
DTSTART;VALUE=DATE:20220928
DTEND;VALUE=DATE:20220929
DTSTAMP:20260419T193659
CREATED:20220915T221719Z
LAST-MODIFIED:20220923T195301Z
UID:54160-1664323200-1664409599@www.ucsf.edu.ar
SUMMARY:Taller formativo para estudiantes UCSF: ¿Necesitás mejorar tus técnicas de estudio?
DESCRIPTION:Experimentá una hora de estudio guiado\, con tus propios materiales \nTaller a cargo de la Prof. en Cs. de la Educ. Valentina Donati \nPodés inscribirte en el horario que más te convenga: 10 hs y 20 hs por Zoom \nMODALIDAD HÍBRIDA: 10 hs (Sede San Jerónimo Reconquista – Aula 1 – Primer Piso) \n  \n\nCLICK AQUÍ PARA INSCRIBIRTE\nFormulario de Inscripción\n\n+ INFO\ntutorías@ucsf.edu.ar\n\n  \nCICLO DE TALLERES FORMATIVOS PARA ESTUDIANTES \nDesarrollo personal y estrategias de aprendizaje universitario \nPara estudiantes UCSF\, de todas las carreras y sedes \n10 propuestas virtuales/presenciales/híbridas\, abiertas y gratuitas \nDel 20 septiembre al 6 de octubre
URL:https://www.ucsf.edu.ar/evento/necesitas-mejorar-tus-tecnicas-de-estudio/
LOCATION:Vía Zoom\, Argentina
CATEGORIES:Alumnos,Docentes
ATTACH;FMTTYPE=image/jpeg:https://www.ucsf.edu.ar/wp-content/uploads/2022/09/EVENTO-WEB_5-necesitas-mejorar-tus-tecnicas-de-estudio.jpg
ORGANIZER;CN="%C3%81rea%20de%20Tutor%C3%ADas":MAILTO:tutorias@ucsf.edu.ar
END:VEVENT
BEGIN:VEVENT
DTSTART;VALUE=DATE:20220929
DTEND;VALUE=DATE:20220930
DTSTAMP:20260419T193659
CREATED:20220901T131631Z
LAST-MODIFIED:20220920T154010Z
UID:53840-1664409600-1664495999@www.ucsf.edu.ar
SUMMARY:Diseño gráfico para redes sociales. Seminario abierto – 100% virtual
DESCRIPTION:Situados en un presente profesional que propone a la sociedad un rol protagónico de las plataformas digitales y con el auge de las redes sociales como espacios de información\, comunicación\, mercado\, socialización\, educación\, formación\, ocio\, entre otros\, las nociones básicas de diseño gráfico se ponen en juego constantemente en la construcción de mensajes y generación de contenido. \n  \nPor este motivo\, en el marco de la Licenciatura en Medios Digitales de la Facultad de Filosofía y Humanidades y dentro del Ciclo de Complementación Curricular\, se ofrece esta propuesta optativa y abierta a todo público. \n  \nEl diseño gráfico es un proceso de creación que le da forma visual a las ideas\, a través de la toma de decisiones entorno a la funcionalidad y la estética de la pieza diseñada. Con el fin de poder dar respuestas a las necesidades y propósitos concretos de un acto comunicativo o artístico\, es necesario conocer que implica el diseño gráfico digital. \n  \nEste espacio de formación propone pensar la generación de contenidos visuales en redes sociales a través del diseño gráfico\, conocer los conceptos fundamentales de la comunicación visual y brindar las herramientas que permitan potenciar su uso. \n  \nLos contenidos girarán en torno al diseño gráfico en la comunicación visual\, el modo creativo del color\, la imagen digital\, tipografía y diagramación\, contenido para redes sociales y tendencias en Diseño Gráfico. \n  \nEl Seminario se desarrollará en 7 encuentros sincrónicos y asincrónicos a cargo de Cecilia Fladung. \n  \nComienza el 29 de septiembre. \n  \nCONSULTÁ POR BENEFICIOS: \n\n Comunidad UCSF\nInstituto Profesorado Concordia\nInstituto de Profesorado Antonio Ruiz de Montoya (Posadas)\n\n  \nMás información: brocca@ucsf.edu.ar 
URL:https://www.ucsf.edu.ar/evento/diseno-grafico-para-redes-sociales-seminario-abierto-100-virtual/
LOCATION:Vía Zoom\, Argentina
CATEGORIES:A distancia,Santa Fe,Facultades,Alumnos,Rosario,Docentes,Personal UCSF,Reconquista,Filosofía y Humanidades,Concordia,Posgrados,Sedes
ATTACH;FMTTYPE=image/jpeg:https://www.ucsf.edu.ar/wp-content/uploads/2022/09/Diseno-grafico-para-RRSS_feed.jpg
ORGANIZER;CN="Facultad%20de%20Filosofia%20y%20Humanidades":MAILTO:extensionffyh@ucsf.edu.ar
END:VEVENT
BEGIN:VEVENT
DTSTART;TZID=America/Argentina/Buenos_Aires:20220929T180000
DTEND;TZID=America/Argentina/Buenos_Aires:20220929T190000
DTSTAMP:20260419T193659
CREATED:20220915T224309Z
LAST-MODIFIED:20220923T195342Z
UID:54164-1664474400-1664478000@www.ucsf.edu.ar
SUMMARY:Taller formativo para estudiantes UCSF: ¿Ya descubriste cuál es tu modo personal de estudiar?
DESCRIPTION:Conocé cómo estudiar mejor desde tu inteligencia preponderante \nTaller a cargo de la Lic. Psicol. Antonela Cosqueta \nMODALIDAD VIRTUAL \n18 hs \nDuración: 1 hora aprox. \n  \n  \n\nCLICK AQUÍ PARA INSCRIBIRTE\nFormulario de Inscripción\n\n+ INFO\ntutorías@ucsf.edu.ar\n\n  \nCICLO DE TALLERES FORMATIVOS PARA ESTUDIANTES \nDesarrollo personal y estrategias de aprendizaje universitario \nPara estudiantes UCSF\, de todas las carreras y sedes \n10 propuestas virtuales/presenciales/híbridas\, abiertas y gratuitas \nDel 20 septiembre al 6 de octubre
URL:https://www.ucsf.edu.ar/evento/ya-descubriste-cual-es-tu-modo-personal-de-estudiar-2/
LOCATION:Vía Zoom\, Argentina
CATEGORIES:Alumnos,Docentes
ATTACH;FMTTYPE=image/jpeg:https://www.ucsf.edu.ar/wp-content/uploads/2022/09/EVENTO-WEB_6-ya-descubriste-tu-modo-personal-de-estudiar.jpg
ORGANIZER;CN="%C3%81rea%20de%20Tutor%C3%ADas":MAILTO:tutorias@ucsf.edu.ar
END:VEVENT
BEGIN:VEVENT
DTSTART;TZID=America/Argentina/Buenos_Aires:20220929T180000
DTEND;TZID=America/Argentina/Buenos_Aires:20220929T200000
DTSTAMP:20260419T193659
CREATED:20220927T144947Z
LAST-MODIFIED:20220927T145437Z
UID:54391-1664474400-1664481600@www.ucsf.edu.ar
SUMMARY:Los modelos de abordaje del conflicto judicial: Oralidad - Digitalización - Prácticas colaborativas
DESCRIPTION:a manera de abordar hoy en día el conflicto judicializado en materia civil y comercial es radicalmente distinta a la conocida y experimentada hasta hace unos pocos años. Hay un cambio cultural y se está gestando una nueva manera de plantear\, entender\, abordar y resolver el conflicto judicializado\, que se basa en cuatro pilares o ejes fundamentalmente: oralidad\, TICs\, gestión\, y prácticas colaborativas y soluciones no adversariales. \nProfesores a cargo: Dr. Iván Di Chiazza y Dr. José Pastore
URL:https://www.ucsf.edu.ar/evento/los-modelos-de-abordaje-del-conflicto-judicial-oralidad-digitalizacion-practicas-colaborativas/
LOCATION:UCSF Santa Fe\, Echagüe 7151\, Santa Fe\, Santa Fe\, Argentina
CATEGORIES:Abogacía,Alumnos,Santa Fe,Docentes,Reconquista,Procuración
GEO:-31.6069451;-60.6709418
X-APPLE-STRUCTURED-LOCATION;VALUE=URI;X-ADDRESS=UCSF Santa Fe Echagüe 7151 Santa Fe Santa Fe Argentina;X-APPLE-RADIUS=500;X-TITLE=Echagüe 7151:geo:-60.6709418,-31.6069451
END:VEVENT
END:VCALENDAR