BEGIN:VCALENDAR
VERSION:2.0
PRODID:-//UCSF - Universidad Católica de Santa Fe - ECPv5.14.2.1//NONSGML v1.0//EN
CALSCALE:GREGORIAN
METHOD:PUBLISH
X-WR-CALNAME:UCSF - Universidad Católica de Santa Fe
X-ORIGINAL-URL:https://www.ucsf.edu.ar
X-WR-CALDESC:Events for UCSF - Universidad Católica de Santa Fe
REFRESH-INTERVAL;VALUE=DURATION:PT1H
X-Robots-Tag:noindex
X-PUBLISHED-TTL:PT1H
BEGIN:VTIMEZONE
TZID:America/Argentina/Buenos_Aires
BEGIN:STANDARD
TZOFFSETFROM:-0300
TZOFFSETTO:-0300
TZNAME:-03
DTSTART:20260101T000000
END:STANDARD
END:VTIMEZONE
BEGIN:VEVENT
DTSTART;TZID=America/Argentina/Buenos_Aires:20260422T103000
DTEND;TZID=America/Argentina/Buenos_Aires:20260422T103000
DTSTAMP:20260421T233440
CREATED:20260421T212218Z
LAST-MODIFIED:20260421T212218Z
UID:93468-1776853800-1776853800@www.ucsf.edu.ar
SUMMARY:Adoración Eucarística en la UCSF Sede Rosario
DESCRIPTION:La Pastoral Universitaria de la UCSF Sede Rosario los invita a participar de la Adoración Eucarística que llevará a cabo en la Capilla Universitaria\, el próximo miércoles 22/4 de 10.30 a 12.30 hs. \nPodés acercarte en cualquier momento a compartir un rato con Jesús Eucaristía. \n 
URL:https://www.ucsf.edu.ar/evento/adoracion-eucaristica-en-la-ucsf-sede-rosario/
LOCATION:UCSF Sede Rosario\, Moreno 1056\, Rosario\, Santa Fe\, 2000\, Argentina
CATEGORIES:Pastoral,Alumnos,Docentes,Personal UCSF,Vicerrectorado de Formación,Comunidad
ATTACH;FMTTYPE=image/jpeg:https://www.ucsf.edu.ar/wp-content/uploads/2026/04/Capilla-Rosario-1.jpeg
GEO:-32.9491666;-60.6519119
X-APPLE-STRUCTURED-LOCATION;VALUE=URI;X-ADDRESS=UCSF Sede Rosario Moreno 1056 Rosario Santa Fe 2000 Argentina;X-APPLE-RADIUS=500;X-TITLE=Moreno 1056:geo:-60.6519119,-32.9491666
END:VEVENT
END:VCALENDAR