BEGIN:VCALENDAR
VERSION:2.0
PRODID:-//UCSF - Universidad Católica de Santa Fe - ECPv5.14.2.1//NONSGML v1.0//EN
CALSCALE:GREGORIAN
METHOD:PUBLISH
X-WR-CALNAME:UCSF - Universidad Católica de Santa Fe
X-ORIGINAL-URL:https://www.ucsf.edu.ar
X-WR-CALDESC:Events for UCSF - Universidad Católica de Santa Fe
REFRESH-INTERVAL;VALUE=DURATION:PT1H
X-Robots-Tag:noindex
X-PUBLISHED-TTL:PT1H
BEGIN:VTIMEZONE
TZID:America/Argentina/Buenos_Aires
BEGIN:STANDARD
TZOFFSETFROM:-0300
TZOFFSETTO:-0300
TZNAME:-03
DTSTART:20260101T000000
END:STANDARD
END:VTIMEZONE
BEGIN:VEVENT
DTSTART;TZID=America/Argentina/Buenos_Aires:20260327T190000
DTEND;TZID=America/Argentina/Buenos_Aires:20260327T210000
DTSTAMP:20260420T185146
CREATED:20260310T173523Z
LAST-MODIFIED:20260310T173523Z
UID:92180-1774638000-1774645200@www.ucsf.edu.ar
SUMMARY:Presentación del Libro "PROTAGONISTAS DEL CAMBIO - Rosario 1970-1990"
DESCRIPTION:Este tercer libro\, perteneciente a la serie “Protagonistas del Cambio” publicado por la Editorial UCSF\, que abarca el período 1970-1990 y de ese modo\, completa nuestra visión de las incidencias de los conjuntos de viviendas de baja altura -CVBA- en la evolución de la dinámica urbana de Rosario durante siete décadas corridas. \nLa continuidad del trabajo de investigación\, ha permitido aportar un mayor conocimiento sobre el proceso y el rol que dichos CVBA han tenido en la formación de nuestra ciudad. \nSu concreción\, se basa en nuestro interés por reconocer la identidad de Rosario\, y al mismo tiempo\, a través de indagaciones histórico-críticas y de índole proyectual\, hemos tratado de considerar la multiplicidad de los factores intervinientes.
URL:https://www.ucsf.edu.ar/evento/presentacion-del-libro-protagonistas-del-cambio-rosario-1970-1990/
LOCATION:Auditorio del Colegio de Arquitectura y Urbanismo – Distrito 2\, Av. Belgrano 646\, Rosario\, Argentina
CATEGORIES:Alumnos,Docentes
ATTACH;FMTTYPE=image/png:https://www.ucsf.edu.ar/wp-content/uploads/2026/03/Libro-moline_feed-scaled.png
END:VEVENT
END:VCALENDAR