BEGIN:VCALENDAR
VERSION:2.0
PRODID:-//UCSF - Universidad Católica de Santa Fe - ECPv5.14.2.1//NONSGML v1.0//EN
CALSCALE:GREGORIAN
METHOD:PUBLISH
X-WR-CALNAME:UCSF - Universidad Católica de Santa Fe
X-ORIGINAL-URL:https://www.ucsf.edu.ar
X-WR-CALDESC:Events for UCSF - Universidad Católica de Santa Fe
REFRESH-INTERVAL;VALUE=DURATION:PT1H
X-Robots-Tag:noindex
X-PUBLISHED-TTL:PT1H
BEGIN:VTIMEZONE
TZID:America/Argentina/Buenos_Aires
BEGIN:STANDARD
TZOFFSETFROM:-0300
TZOFFSETTO:-0300
TZNAME:-03
DTSTART:20250101T000000
END:STANDARD
END:VTIMEZONE
BEGIN:VEVENT
DTSTART;TZID=America/Argentina/Buenos_Aires:20250827T080000
DTEND;TZID=America/Argentina/Buenos_Aires:20250827T170000
DTSTAMP:20260419T130153
CREATED:20250806T220859Z
LAST-MODIFIED:20250813T201147Z
UID:85000-1756281600-1756314000@www.ucsf.edu.ar
SUMMARY:La UCSF en la Expo Oberá
DESCRIPTION:El día 27 de agosto\, el Departamento Ingreso de la UCSF participará de la Expo Carreras de la ciudad de Oberá\, de 8 a 17 hs. Será una gran oportunidad para que alumnos de las escuelas secundarias\, interesados y familias se acerquen a conocer la innovadora oferta académica que ofrece la UCSF para el Ingreso 2026.
URL:https://www.ucsf.edu.ar/evento/la-ucsf-en-la-expo-obera/
LOCATION:Oberá\, Misiones
CATEGORIES:Santa Fe,Posadas,Comunidad
END:VEVENT
END:VCALENDAR