BEGIN:VCALENDAR
VERSION:2.0
PRODID:-//UCSF - Universidad Católica de Santa Fe - ECPv5.14.2.1//NONSGML v1.0//EN
CALSCALE:GREGORIAN
METHOD:PUBLISH
X-WR-CALNAME:UCSF - Universidad Católica de Santa Fe
X-ORIGINAL-URL:https://www.ucsf.edu.ar
X-WR-CALDESC:Events for UCSF - Universidad Católica de Santa Fe
REFRESH-INTERVAL;VALUE=DURATION:PT1H
X-Robots-Tag:noindex
X-PUBLISHED-TTL:PT1H
BEGIN:VTIMEZONE
TZID:America/Argentina/Buenos_Aires
BEGIN:STANDARD
TZOFFSETFROM:-0300
TZOFFSETTO:-0300
TZNAME:-03
DTSTART:20260101T000000
END:STANDARD
END:VTIMEZONE
BEGIN:VEVENT
DTSTART;TZID=America/Argentina/Buenos_Aires:20260407T180000
DTEND;TZID=America/Argentina/Buenos_Aires:20260623T200000
DTSTAMP:20260424T014646
CREATED:20260316T210250Z
LAST-MODIFIED:20260316T210312Z
UID:92395-1775584800-1782244800@www.ucsf.edu.ar
SUMMARY:Curso Interuniversitario “Cultura de la vida y dignidad humana: reflexión interdisciplinaria”
DESCRIPTION:La Red de Universidades Católicas y de Orientación Católica de la República Argentina (Red UC-OC) anuncia la apertura de inscripciones para la edición 2026 de su curso de reflexión interdisciplinaria sobre la vida y la dignidad humana. \nIdentidad y Objetivos Fundamentales: \nObjetivo Central: El curso se propone ofrecer una introducción a problemáticas de actualidad vinculadas con la vida humana y su dignidad. Desde la identidad católica de las universidades convocantes\, los encuentros buscan favorecer la reflexión crítica sobre estas cuestiones y brindar propuestas alternativas para la edificación de una cultura de la vida. \nAsimismo\, pretende brindar fundamentos interdisciplinarios para comprender y valorar la dignidad humana\, desde la concepción hasta la muerte natural de la persona\, formando jóvenes capaces de promover una cultura de la vida y participar activamente en el debate público. \nEstructura y Destinatarios: \nModalidad: Clases sincrónicas por plataforma Zoom. \nDuración: 11 encuentros semanales de 2 horas cada uno\, los días martes de 18 a 20 hs. \nEnfoque: Iniciativa interdisciplinar\, combinando aspectos médicos\, jurídicos\, sociales\, culturales\, filosóficos\, teológicos y pastorales de las temáticas en juego. Se conservará la incorporación de dos talleres participativos que\, a partir de casos concretos\, permiten el diseño de propuestas interdisciplinarias. \nDestinatarios: \n\nAlumnos y docentes de las universidades convocantes de la Red UC-OC.\nAlumnos y docentes de Universidades católicas de América Latina que lo deseen.\nPersonas interesadas que sean referenciadas por profesores de las universidades convocantes.\n\nDirección: Carlos Hugo Scatizza. \nComité Académico: Lorena Bolzón\, Sergio Götte\, Alejandra Planker y María Florencia Pietroni. \nCoordinación: María Carina Giles – María Florencia Pietroni \nInscripción previa y gratuita: https://forms.office.com/r/19muYSMsfV \nPara más información\, visite el sitio oficial de la red en https://reducoc.org o consulte vía email cursoculturadelavida@ucsf.edu.ar
URL:https://www.ucsf.edu.ar/evento/curso-interuniversitario-cultura-de-la-vida-y-dignidad-humana-reflexion-interdisciplinaria/
LOCATION:Vía Zoom\, Argentina
CATEGORIES:Pastoral,Alumnos,Docentes,Personal UCSF,Comunidad,Vicerrectorado de Formación,Bienestar universitario
END:VEVENT
BEGIN:VEVENT
DTSTART;TZID=America/Argentina/Buenos_Aires:20260429T190000
DTEND;TZID=America/Argentina/Buenos_Aires:20260429T210000
DTSTAMP:20260424T014646
CREATED:20260423T182124Z
LAST-MODIFIED:20260423T182124Z
UID:93408-1777489200-1777496400@www.ucsf.edu.ar
SUMMARY:Conversatorio: Educar en la incertidumbre: desafíos actuales de la pastoral en contextos educativos
DESCRIPTION:INSCRIPCIÓN \n  \n 
URL:https://www.ucsf.edu.ar/evento/conversatorio-educar-en-la-incertidumbre-desafios-actuales-de-la-pastoral-en-contextos-educativos/
LOCATION:Vía Zoom\, Argentina
CATEGORIES:A distancia,Pastoral,Santa Fe,Alumnos,Rosario,Docentes,Posadas,Personal UCSF,Reconquista,Carreras de Posgrado,Departamento de Posgrados,Comunidad,Posgrados,Sedes
ATTACH;FMTTYPE=image/jpeg:https://www.ucsf.edu.ar/wp-content/uploads/2026/04/CONVERSATORIO-Especializacion-en-pastoral-en-contextos-educativos_feed.jpg
ORGANIZER;CN="Posgrado":MAILTO:posgrado@ucsf.edu.ar
END:VEVENT
END:VCALENDAR